BEGIN:VCALENDAR
VERSION:2.0
PRODID:icalendar-ruby
CALSCALE:GREGORIAN
METHOD:PUBLISH
BEGIN:VEVENT
DTSTAMP:20260422T221732Z
UID:6-1656757@fortstreet.org
DTSTART:20260927T161500Z
DTEND:20260927T171500Z
CLASS:PUBLIC
CREATED:20260414T104541
DESCRIPTION:The Open Door ministry gathers on the fourth Sunday of each mon
 th to prepare food bags for distribution.
LAST-MODIFIED:20260414T104541
LOCATION:
SUMMARY:Open Door Bag Packing
URL;VALUE=URI:https://fortstreet.org/events/open-door-bag-packing/2026-09-2
 7
ATTACH;FILENAME=IMG_3604-2.jpeg;FMTTYPE=image/jpeg:https://dq5pwpg1q8ru0.cl
 oudfront.net/2026/02/03/22/05/35/9a9eaa0c-2355-4594-a6f0-c30589277e55/IMG_
 3604-2.jpeg
END:VEVENT
END:VCALENDAR
