BEGIN:VCALENDAR
VERSION:2.0
PRODID:icalendar-ruby
CALSCALE:GREGORIAN
METHOD:PUBLISH
BEGIN:VEVENT
DTSTAMP:20260424T060242Z
UID:7-1696045@fortstreet.org
DTSTART:20261018T220000Z
DTEND:20261018T230000Z
CLASS:PUBLIC
CREATED:20260423T232302
DESCRIPTION:
LAST-MODIFIED:20260423T232302
LOCATION:Gym
SUMMARY:NA Meeting
URL;VALUE=URI:https://fortstreet.org/events/na-meeting/2026-10-18
ATTACH;FILENAME=getty-images-MMXMH7CGsQk-unsplash.jpg;FMTTYPE=image/jpeg:ht
 tps://dq5pwpg1q8ru0.cloudfront.net/2026/02/03/22/18/10/bd22d11f-4c8a-462b-
 8c77-e4fd7a23c2a4/getty-images-MMXMH7CGsQk-unsplash.jpg
END:VEVENT
END:VCALENDAR
