BEGIN:VCALENDAR
VERSION:2.0
PRODID:icalendar-ruby
CALSCALE:GREGORIAN
METHOD:PUBLISH
BEGIN:VEVENT
DTSTAMP:20260425T154215Z
UID:15-1701713@fortstreet.org
DTSTART:20261013T160000Z
DTEND:20261013T170000Z
CLASS:PUBLIC
CREATED:20260425T111850
DESCRIPTION:
LAST-MODIFIED:20260425T111850
LOCATION:McMillan Room
SUMMARY:Lunch Bible Study
URL;VALUE=URI:https://fortstreet.org/events/lunch-bible-study/2026-10-13
ATTACH;FILENAME=daiga-ellaby-FooySaoFFF4-unsplash.jpg;FMTTYPE=image/jpeg:ht
 tps://dq5pwpg1q8ru0.cloudfront.net/2026/02/05/19/16/22/5b9874ab-2030-4c6a-
 beaf-f5aef1ce73da/daiga-ellaby-FooySaoFFF4-unsplash.jpg
END:VEVENT
END:VCALENDAR
