BEGIN:VCALENDAR
VERSION:2.0
PRODID:icalendar-ruby
CALSCALE:GREGORIAN
METHOD:PUBLISH
BEGIN:VEVENT
DTSTAMP:20260423T103004Z
UID:14-1692212@fortstreet.org
DTSTART:20261101T160000Z
DTEND:20261101T170000Z
CLASS:PUBLIC
CREATED:20260422T232113
DESCRIPTION:Kid's Sunday School
LAST-MODIFIED:20260422T232113
LOCATION:
SUMMARY:Kid's Sunday School
URL;VALUE=URI:https://fortstreet.org/events/kids-sunday-school/2026-11-01
END:VEVENT
END:VCALENDAR
