BEGIN:VCALENDAR
VERSION:2.0
PRODID:icalendar-ruby
CALSCALE:GREGORIAN
METHOD:PUBLISH
BEGIN:VEVENT
DTSTAMP:20260424T072206Z
UID:13-1696244@fortstreet.org
DTSTART:20261027T150000Z
DTEND:20261027T160000Z
CLASS:PUBLIC
CREATED:20260423T232303
DESCRIPTION:
LAST-MODIFIED:20260423T232303
LOCATION:
SUMMARY:Handbell Rehersal
URL;VALUE=URI:https://fortstreet.org/events/handbell-rehersal/2026-10-27
ATTACH;FILENAME=IMG_3971.jpeg;FMTTYPE=image/jpeg:https://dq5pwpg1q8ru0.clou
 dfront.net/2026/02/05/19/32/05/e60bd148-e80d-46ba-b7ae-aa294bb57570/IMG_39
 71.jpeg
END:VEVENT
END:VCALENDAR
