BEGIN:VCALENDAR
VERSION:2.0
PRODID:icalendar-ruby
CALSCALE:GREGORIAN
METHOD:PUBLISH
BEGIN:VEVENT
DTSTAMP:20260422T155107Z
UID:40-1656761@fortstreet.org
DTSTART:20260531T160000Z
DTEND:20260531T161500Z
CLASS:PUBLIC
CREATED:20260414T123242
DESCRIPTION:The Session has called a meeting of the Congregation on Sunday\
 , May 31st after worship. The purpose of this brief meeting will be to ele
 ct the members of the Nominating Committee. All Fort Street members are en
 couraged to attend.
LAST-MODIFIED:20260414T123242
LOCATION:Sanctuary
SUMMARY:Congregational Meeting
URL;VALUE=URI:https://fortstreet.org/events/congregational-meeting/2026-05-
 31
ATTACH;FILENAME=Congregational-Meeting.png;FMTTYPE=image/png:https://dq5pwp
 g1q8ru0.cloudfront.net/2026/04/14/16/32/41/8c3ee4b7-d657-4cd8-b95d-7112878
 8009d/Congregational-Meeting.png
END:VEVENT
END:VCALENDAR
