BEGIN:VCALENDAR
VERSION:2.0
PRODID:icalendar-ruby
CALSCALE:GREGORIAN
METHOD:PUBLISH
BEGIN:VEVENT
DTSTAMP:20260422T155632Z
UID:39-1656760@fortstreet.org
DTSTART:20260531T150000Z
DTEND:20260531T160000Z
CLASS:PUBLIC
CREATED:20260414T122729
DESCRIPTION:Join us for a special time during our May 31st worship service 
 to remember our baptisms.
LAST-MODIFIED:20260414T122729
LOCATION:
SUMMARY:Baptism Renewal Service
URL;VALUE=URI:https://fortstreet.org/events/baptism-renewal-service/2026-05
 -31
ATTACH;FILENAME=Baptism-Renewal-Service.png;FMTTYPE=image/png:https://dq5pw
 pg1q8ru0.cloudfront.net/2026/04/14/16/27/29/6f3cdab1-8436-4583-9ddc-4890af
 aa0673/Baptism-Renewal-Service.png
END:VEVENT
END:VCALENDAR
