BEGIN:VCALENDAR
VERSION:2.0
PRODID:icalendar-ruby
CALSCALE:GREGORIAN
METHOD:PUBLISH
BEGIN:VEVENT
DTSTAMP:20260422T155632Z
UID:38-1656759@fortstreet.org
DTSTART:20260531T161500Z
DTEND:20260531T170500Z
CLASS:PUBLIC
CREATED:20260414T104812
DESCRIPTION:
LAST-MODIFIED:20260414T104812
LOCATION:Keely Commons
SUMMARY:5th Sunday Potluck
URL;VALUE=URI:https://fortstreet.org/events/5th-sunday-potluck--38/2026-05-
 31
ATTACH;FILENAME=IMG_3859.jpeg;FMTTYPE=image/jpeg:https://dq5pwpg1q8ru0.clou
 dfront.net/2026/04/14/14/48/12/d2016b43-ee28-4e22-84bd-f7c42ea7aa8d/IMG_38
 59.jpeg
END:VEVENT
END:VCALENDAR
